BEGIN:VCALENDAR
VERSION:2.0
PRODID:-//Stadtgeschichte München//DE
CALSCALE:GREGORIAN
BEGIN:VEVENT
UID:455@stadtgeschichte-muenchen.de
SUMMARY:... Dagegn sein is net leicht.
DESCRIPTION:
DTSTART:20110506T183000
DTEND:20110506T000000
LOCATION:vor dem Kulturhaus Milbertshofen am Curt-Metzger-Platz 1
ORGANIZER:Kulturhaus Milbertshofen
END:VEVENT
END:VCALENDAR