BEGIN:VCALENDAR
VERSION:2.0
PRODID:-//Stadtgeschichte München//DE
CALSCALE:GREGORIAN
BEGIN:VEVENT
UID:4694@stadtgeschichte-muenchen.de
SUMMARY:Waldfriedhof
DESCRIPTION:Hinweis: Für den Rundgang wird festes Schuhwerk empfohlen. Die Führung endet an der Aussegnungshalle des Neuen Teils, Lorettoplatz 3.
DTSTART:20130618T160000
DTEND:20130618T190000
LOCATION:Aussgenungshalle des Alten Teils Fürstenrieder Straße 288
ORGANIZER:Städtische Friedhöfe München
END:VEVENT
END:VCALENDAR