BEGIN:VCALENDAR
VERSION:2.0
PRODID:-//Stadtgeschichte München//DE
CALSCALE:GREGORIAN
BEGIN:VEVENT
UID:4697@stadtgeschichte-muenchen.de
SUMMARY:Ostfriedhof
DESCRIPTION:
DTSTART:20130625T160000
DTEND:20130625T173000
LOCATION:Haupteingang, Aussegnungshalle Sankt-Martins-Platz
ORGANIZER:Städtische Friedhöfe München
END:VEVENT
END:VCALENDAR