BEGIN:VCALENDAR
VERSION:2.0
PRODID:-//Stadtgeschichte München//DE
CALSCALE:GREGORIAN
BEGIN:VEVENT
UID:4728@stadtgeschichte-muenchen.de
SUMMARY:Abendveranstaltung Alter Südfriedhof
DESCRIPTION:Von 19.30 â€” 24.00 Uhr wird eine Performance aus Tanz, Rezitation, Musik und Bildprojektionen der Kulturplattform jourfixe-muenchen de auf dem Vorplatz des Lapidariums gezeigt. An diesem Abend ist der Friedhof stimmungsvoll beleuchtet.
DTSTART:20130706T193000
DTEND:20130707T000000
LOCATION:
ORGANIZER:Städtische Friedhöfe München
END:VEVENT
END:VCALENDAR