BEGIN:VCALENDAR
VERSION:2.0
PRODID:-//Stadtgeschichte München//DE
CALSCALE:GREGORIAN
BEGIN:VEVENT
UID:473@stadtgeschichte-muenchen.de
SUMMARY:Hl. Geist
DESCRIPTION:&lt;p&gt;Der Besuch der Heiliggeistkirche bringt Sie vor die Tore der ältesten Stadt. Herzog Ludwig der Kelheimer gilt als Stifter des zu ihr gehörigen Pilgerhospizes und späteren Spitals, das für Jahrhunderte Münchens wichtigste Sozialeinrichtung bleiben sollte. Die gotische Spitalkirche wurde im 18. Jahrhundert durch die Brüder Egid Quirin und Cosmas Damian Asam barock umgestaltet.&lt;/p&gt;
DTSTART:20110802T140000
DTEND:20110802T150000
LOCATION:Prälat-Miller-Weg 1-3, 80331 München (Am Viktualienmarkt)
ORGANIZER:Münchner Bildungswerk e.V.
END:VEVENT
END:VCALENDAR