BEGIN:VCALENDAR
VERSION:2.0
PRODID:-//Stadtgeschichte München//DE
CALSCALE:GREGORIAN
BEGIN:VEVENT
UID:4735@stadtgeschichte-muenchen.de
SUMMARY:Himmlers Kinder - Der Lebensborn in München
DESCRIPTION:In einem Stadtrundgang zu den früheren Schauplätzen der Münchner NS-Geschichte, wie der Zentrale des Lebensborn e.V., werden Schicksale von Lebensborn-Kindern und die Organisationsstruktur des SS-Vereins beleuchtet. Der Rundgang in der Innenstadt vermittelt zudem Informationen zur nationalsozialistischen Rassen- und Gesundheitspolitik und fragt nach den Wertevorstellungen sowie dem Bild der Frau im Nationalsozialismus. Treffpunkt jeweils vor dem Polizeipräsidium an der Ettstraße. Dauer ca. eineinhalb Stunden (Endpunkt: Platz der Opfer des Nationalsozialismus).
DTSTART:20130717T180000
DTEND:20130717T193000
LOCATION:vor dem Polizeipräsidium an der Ettstraße
ORGANIZER:STATTreisen München e.V.
END:VEVENT
END:VCALENDAR