BEGIN:VCALENDAR
VERSION:2.0
PRODID:-//Stadtgeschichte München//DE
CALSCALE:GREGORIAN
BEGIN:VEVENT
UID:492@stadtgeschichte-muenchen.de
SUMMARY:Bürgersaalkirche
DESCRIPTION:&lt;p&gt;Prunkvoller Betsaai über dem Seligengrab Die Zweiteilung der Bürgersaalkirche können Sie schon an der Fassade ablesen. Die Oberkirche nimmt der prunkvolle barocke Betsaal der Marianischen Männerkongregation mit der berühmten Schutzengelgruppe von Ignaz Günther ein. In der Unterkirche finden Sie das Grab des seligen Pater Rupert Mayer SJ. Das ihr angegliederte Kongregationsmuseum erinnert an sein Leben und Wirken.&lt;/p&gt;
DTSTART:20110719T140000
DTEND:20110719T150000
LOCATION:Bürgersaalkirche, Neuhauser Straße 14
ORGANIZER:Münchner Bildungswerk e.V.
END:VEVENT
END:VCALENDAR