BEGIN:VCALENDAR
VERSION:2.0
PRODID:-//Stadtgeschichte München//DE
CALSCALE:GREGORIAN
BEGIN:VEVENT
UID:4923@stadtgeschichte-muenchen.de
SUMMARY:Ruppige Ritter
DESCRIPTION:Ob ihr es glaubt oder nicht: in München tummelten sich die strahlendsten Rittergestalten ihrer Zeit. Wie hieß z.B. der Wittelsbacher, der Kaiser Barbarossa aus einem gemeinen Hinterhalt befreite? Welcher Ritter rettete â€“ kopflos! â€“ seine Kumpane vor dem Schwert des Scharfrichters? Und wo befindet sich heute der 364 Pfund schwere Stein, den Christoph der Starke 9 Schritte weit schleuderte? Wenn ihr den Antworten auf die Spur kommen wollt, dann begleitet uns auf unserer Stadtführung für Kinder am Mittwoch den 28.08.2013 um 13.00 gehtÂ´s los! Anmeldung und weitere Infos unter www.stadtdetektive.com.
DTSTART:20130828T130000
DTEND:20130828T150000
LOCATION:Odeonsplatz
ORGANIZER:Die Stadtdetektive  - Stadtführungen für Kinder und Erwachsene
END:VEVENT
END:VCALENDAR