BEGIN:VCALENDAR
VERSION:2.0
PRODID:-//Stadtgeschichte München//DE
CALSCALE:GREGORIAN
BEGIN:VEVENT
UID:4924@stadtgeschichte-muenchen.de
SUMMARY:Grauslige Geschichten
DESCRIPTION:Wer am Mittwoch, den 04.09.2012 um 11.30h noch nichts vorhat, und sich trotz des sonnigen Wetters bei einer Stadtführung etwas gruseln möchte, der kann sich gerne mit uns in den dunklen Ecken Münchens herumdrücken. Anmeldung und weitere Infos unter www.stadtdetektive.com
DTSTART:20130904T113000
DTEND:20130904T000013
LOCATION:Stachus / Karlstor
ORGANIZER:Die Stadtdetektive  - Stadtführungen für Kinder und Erwachsene
END:VEVENT
END:VCALENDAR