BEGIN:VCALENDAR
VERSION:2.0
PRODID:-//Stadtgeschichte München//DE
CALSCALE:GREGORIAN
BEGIN:VEVENT
UID:4925@stadtgeschichte-muenchen.de
SUMMARY:Prinzessin auf der Erbse
DESCRIPTION:â€œIch habe fast die ganze Nacht kein Auge zugetan! Gott weiß, was in meinem Bett gewesen ist â€“ ich bin über und über mit gelben und blauen Flecken übersätâ€. Ob unsere bayerischen Prinzessinnen ebenso empfindlich gewesen sind, wie die zarte Prinzessin aus H.C. Andersens berühmten Märchen, das könnt ihr bestimmt besser beurteilen, wenn ihr uns auf unserer Prinzessin auf der Erbse-Tour am Di. 10.09.2013 um 11.00h begleitet.... Anmeldung und weitere Infos unter: www.stadtdetektive.com
DTSTART:20130910T110000
DTEND:20130910T130000
LOCATION:Marienplatz / Mariensäule
ORGANIZER:Die Stadtdetektive  - Stadtführungen für Kinder und Erwachsene
END:VEVENT
END:VCALENDAR