BEGIN:VCALENDAR
VERSION:2.0
PRODID:-//Stadtgeschichte München//DE
CALSCALE:GREGORIAN
BEGIN:VEVENT
UID:4993@stadtgeschichte-muenchen.de
SUMMARY:Große Männer - große Frauen
DESCRIPTION:&nbsp; &nbsp;
DTSTART:20130707T133000
DTEND:20130707T000000
LOCATION:Kasse Residenzmuseum
ORGANIZER:Bayerische Schlösserverwaltung
END:VEVENT
END:VCALENDAR