BEGIN:VCALENDAR
VERSION:2.0
PRODID:-//Stadtgeschichte München//DE
CALSCALE:GREGORIAN
BEGIN:VEVENT
UID:4994@stadtgeschichte-muenchen.de
SUMMARY:Neue Seherfahrung im Blick nach oben:
DESCRIPTION:&nbsp; &nbsp;
DTSTART:20130702T163000
DTEND:20130702T000000
LOCATION: Haupteingang Schloss Nymphenburg
ORGANIZER:Bayerische Schlösserverwaltung
END:VEVENT
END:VCALENDAR