BEGIN:VCALENDAR
VERSION:2.0
PRODID:-//Stadtgeschichte München//DE
CALSCALE:GREGORIAN
BEGIN:VEVENT
UID:5006@stadtgeschichte-muenchen.de
SUMMARY:Streetart in München Teil 2
DESCRIPTION:Das Areal der Kultfabrik ist eine riesige Freiluftgalerie mit zum Teil hochkarätigen Graffiti. hier toben sich auch internationale Starsder Szene aus. wir erkunden das Gelände zu Fuß.
DTSTART:20131020T100000
DTEND:20131020T120000
LOCATION:Eingang Kultfabrik, Grafinger Straße 6
ORGANIZER:
END:VEVENT
END:VCALENDAR