BEGIN:VCALENDAR
VERSION:2.0
PRODID:-//Stadtgeschichte München//DE
CALSCALE:GREGORIAN
BEGIN:VEVENT
UID:5036@stadtgeschichte-muenchen.de
SUMMARY:Große Männer - große Frauen
DESCRIPTION:
DTSTART:20130825T133000
DTEND:20130825T000000
LOCATION:Kasse Residenzmuseum
ORGANIZER:Bayerische Schlösserverwaltung
END:VEVENT
END:VCALENDAR