BEGIN:VCALENDAR
VERSION:2.0
PRODID:-//Stadtgeschichte München//DE
CALSCALE:GREGORIAN
BEGIN:VEVENT
UID:5044@stadtgeschichte-muenchen.de
SUMMARY:Der Nymphenburger Schlosspark unter Kurfürst Max Emanuel
DESCRIPTION:
DTSTART:20130907T140000
DTEND:20130907T000000
LOCATION:Haupteingang Schloss Nymphenburg
ORGANIZER:Bayerische Schlösserverwaltung
END:VEVENT
END:VCALENDAR