BEGIN:VCALENDAR
VERSION:2.0
PRODID:-//Stadtgeschichte München//DE
CALSCALE:GREGORIAN
BEGIN:VEVENT
UID:515@stadtgeschichte-muenchen.de
SUMMARY:Rubens-Altäre für Bayern
DESCRIPTION:&lt;p&gt;Sonderführungen zur Sammlungsgeschichte der Alten Pinakothek&lt;/p&gt;
DTSTART:20110508T110000
DTEND:20110508T000000
LOCATION:Alte Pinakothek, Museumskasse
ORGANIZER:Alte Pinakothek
END:VEVENT
END:VCALENDAR