BEGIN:VCALENDAR
VERSION:2.0
PRODID:-//Stadtgeschichte München//DE
CALSCALE:GREGORIAN
BEGIN:VEVENT
UID:5271@stadtgeschichte-muenchen.de
SUMMARY:Schichtl, Krinoline und Kettenflieger
DESCRIPTION:Vor hundert Jahren versetzten das legendäre Wies´nVariété von Papa Schichtl und die schwankende Plattform&nbsp;der Krinoline das Publikum noch in Stimmung, heute ist es&nbsp;ein hart umkämpftes Geschäft und der Anspruch der&nbsp;Besucher hat sich verändert. Trotzdem haben&nbsp;\"Traditionsgeschäfte\" ihren festen Platz.&nbsp; &nbsp;
DTSTART:20130927T100000
DTEND:20130927T120000
LOCATION:Haupteingang Theresienwiese (Mahnmal), 
ORGANIZER:MVHS München Mitte   
END:VEVENT
END:VCALENDAR