BEGIN:VCALENDAR
VERSION:2.0
PRODID:-//Stadtgeschichte München//DE
CALSCALE:GREGORIAN
BEGIN:VEVENT
UID:5273@stadtgeschichte-muenchen.de
SUMMARY:Castrum – Der Alte Hof
DESCRIPTION:Als deutscher Kaiser macht Ludwig der Bayer seine&nbsp;Burg zum ersten festen Regierungssitz eines Kaisers.&nbsp;Beim Rundgang, bis hinauf in den spätgotischen&nbsp;Fachwerk-Erker, dem Affenturm - wird die Geschichte&nbsp;der Burg eindrucksvoll sichtbar.&nbsp;
DTSTART:20130927T150000
DTEND:20130927T163000
LOCATION:Infopoint Museen und Schlösser in Bayern  Alter Hof 1
ORGANIZER:MVHS München Mitte   
END:VEVENT
END:VCALENDAR