BEGIN:VCALENDAR
VERSION:2.0
PRODID:-//Stadtgeschichte München//DE
CALSCALE:GREGORIAN
BEGIN:VEVENT
UID:5302@stadtgeschichte-muenchen.de
SUMMARY:Ein „virtueller\" Rundgang durch das München im 16. und 19. Jahrhundert
DESCRIPTION:Herzog Albrecht V. konnte von seiner Residenz aus, bei jeder Witterung,&nbsp;seine gotische Stadt München besichtigen. 1570 baute der Drexlermeister Jacob Sandtner sein berühmtes Stadtmodell im Maßstab 1:616&nbsp;aus millimeterdünnen Lindenholzplättchen. Johann Baptist Seitz unterbreitete König Ludwig I. im Februar 1839 den Vorschlag, ein neues Stadtmodell herzustellen, anknüpfend an das „Sandtnerische Modell\".&nbsp;Beide Stadtmodelle haben „ihre\"&nbsp;Entstehungsgeschichte und sind im&nbsp;Nationalmuseum zu besichtigen. Interessant dabei ist auch die Lebensgeschichte von Johann Baptist Seitz. Für uns ergibt sich dadurch die Gelegenheit noch einmal „virtuell\" einen&nbsp;Spaziergang durch München im 16. und 19. Jahrhundert zu unternehmen und dabei nicht nur Straßenzüge und Häuser zu entdecken, die es&nbsp;so längst nicht mehr gibt, sondern auch das Leben in München in diesen beiden Jahrhunderten unmittelbar miteinander zu vergleichen.
DTSTART:20130223T140000
DTEND:20130223T160000
LOCATION:Nationalmuseum Kassenraum, Eingang Prinzregentenstr. 3 
ORGANIZER:DGB-Bildungswerk Bayern e.V. Region München
END:VEVENT
END:VCALENDAR