BEGIN:VCALENDAR
VERSION:2.0
PRODID:-//Stadtgeschichte München//DE
CALSCALE:GREGORIAN
BEGIN:VEVENT
UID:5312@stadtgeschichte-muenchen.de
SUMMARY:Wenn am jüngsten Tag das Bier...
DESCRIPTION:Es ist heute kaum mehr vorstellbar, dass München einst keine Bierstadt&nbsp;war, sondern sich am sauren Wein der Isarhänge laben musste. Doch&nbsp;immerhin stammt das erste Reinheitsgebot aus München, erlassen&nbsp;1487 von Herzog Albrecht IV. Von nun an stand dem Aufstieg des Hopfensuds nichts mehr im Wege und heute ist ein schmackhaftes Helles&nbsp;nicht mehr aus dem Stadtbild wegzudenken. Eine Führung zur Bier-&nbsp;und Brauereiengeschichte der Stadt, die&nbsp;sich natürlich gut mit einem&nbsp;Besuch in der Wirtschaft oder im Biergarten verbinden lässt.
DTSTART:20131107T160000
DTEND:20131107T180000
LOCATION:Marienplatz, Fischbrunnen
ORGANIZER:MVHS München Mitte   
END:VEVENT
END:VCALENDAR