BEGIN:VCALENDAR
VERSION:2.0
PRODID:-//Stadtgeschichte München//DE
CALSCALE:GREGORIAN
BEGIN:VEVENT
UID:5317@stadtgeschichte-muenchen.de
SUMMARY:Viktualienmarkt - der Bauch Münchens
DESCRIPTION:Schon im 14. Jahrhundert mussten die stinkenden und schmutzigen&nbsp;Gewerbe vom Hauptmarkt auf dem Marienplatz vor die alte Stadtmauer&nbsp;weichen. Doch erst 1807 wurde er offiziell eröffnet: Der Münchner Viktualienmarkt. Heute ist er der größte Freiluftmarkt Deutschlands und&nbsp;einer der schönsten Orte im Herzen der Stadt. Ob man hier nur interessante Leute beobachten, ein Münchner Zufallsbier trinken oder sich für&nbsp;die heimische Küche mit Lebensmitteln eindecken möchte: Der „Bauch&nbsp;Münchens\" sollte für jeden etwas zu bieten haben. Bei unserem Rundgang schauen wir hinter die Kulissen des Viktualienmarkts und begegnen Standlbesitzern, Volkssängern - und vielleicht sogar dem Breznreiter vom Heiliggeistspital.
DTSTART:20131129T150000
DTEND:20131129T170000
LOCATION:Eingang Heilig-Geist-Kirche, Marktseite
ORGANIZER:MVHS München Mitte   
END:VEVENT
END:VCALENDAR