BEGIN:VCALENDAR
VERSION:2.0
PRODID:-//Stadtgeschichte München//DE
CALSCALE:GREGORIAN
BEGIN:VEVENT
UID:5318@stadtgeschichte-muenchen.de
SUMMARY:Streifzug durch die Altstadt
DESCRIPTION:Von der Mariensäule als dem Herzen der Stadt geht\'s über den Alten&nbsp;Peter zum Viktualienmarkt und ins Hofbräuhaus. Im Alten Hof begegnen&nbsp;wir vielleicht einem Affen, und in der Residenz warten König Ludwig I&nbsp;selig nebst Gattin Therese schon darauf, uns aus ihrem Schlafzimmerfenster freundlich zuzuwinken. Damit sich die Mühen gelohnt haben,&nbsp;holen wir uns zum Schluss den Freischein für Gesundheit und Glück. Eine Führung für Gäste ebenso wie für gstandne Münchner.
DTSTART:20131203T150000
DTEND:20131203T170000
LOCATION:Marienplatz, Mariensäule
ORGANIZER:MVHS München Mitte   
END:VEVENT
END:VCALENDAR