BEGIN:VCALENDAR
VERSION:2.0
PRODID:-//Stadtgeschichte München//DE
CALSCALE:GREGORIAN
BEGIN:VEVENT
UID:5319@stadtgeschichte-muenchen.de
SUMMARY:El Greco, Rubens & Co: Die Alte Pinakothek
DESCRIPTION:In der Absicht, durch den Anblick von schönen Kunstwerken die Seelen&nbsp;seiner Untertanen zu bilden, initiierte König Ludwig I. Anfang des 19.&nbsp;Jahrhunderts ein einzigartiges Projekt: Eine Gemäldegalerie draußen vor&nbsp;der Stadt, wie sie die Welt noch nicht gesehen hatte. Noch heute gilt&nbsp;die Alte Pinakothek als eines der bedeutendsten Museen der Welt.&nbsp;Grund genug, um auch unsere modernen Seelen mit dem Anblick von&nbsp;italienischer, französischer, spanischer, deutscher, niederländischer und&nbsp;flämischer Kunst zu erfreuen und bei einer kurzweiligen Museumsführung einen Einblick in das Herz europäischer Kunstgeschichte zu erhalten.
DTSTART:20131208T110000
DTEND:20131208T130000
LOCATION:Alte Pinakothek,  Eingangshalle
ORGANIZER:MVHS München Mitte   
END:VEVENT
END:VCALENDAR