BEGIN:VCALENDAR
VERSION:2.0
PRODID:-//Stadtgeschichte München//DE
CALSCALE:GREGORIAN
BEGIN:VEVENT
UID:532@stadtgeschichte-muenchen.de
SUMMARY:Friedhofsführung - Westfriedhof
DESCRIPTION:
DTSTART:20110513T140000
DTEND:20110513T160000
LOCATION:Haupteingang Baldurstraße 28
ORGANIZER:Städtische Friedhöfe München
END:VEVENT
END:VCALENDAR