BEGIN:VCALENDAR
VERSION:2.0
PRODID:-//Stadtgeschichte München//DE
CALSCALE:GREGORIAN
BEGIN:VEVENT
UID:5330@stadtgeschichte-muenchen.de
SUMMARY:Dackelhund, Dampferschiff und Damenstrumpf
DESCRIPTION:Von außen trutzige Betonburg, von innen eine der begehrtesten Lebensweiten Münchens: Das Olympische Dorf ist eine Insel mitten in der&nbsp;Großstadt München. Lange als Betonwüste geschmäht, gilt das „Dorf\"&nbsp;mittlerweile als eines der lebenswertesten Viertel Münchens. 1972 entstanden hier auf einem ehemaligen Exerzierplatz innerhalb kürzester Zeit das Dorf und der olympische Park.&nbsp;Cornelia Ziegler, selbst jahrelang begeisterte Olympiadörflerin, führt&nbsp;durch versteckte Winkel des Dorfes und zeigt es aus einer Perspektive,&nbsp;die Sie so vermutlich noch nicht gesehen haben. Eine Führung voller&nbsp;ungewöhnlicher Einsichten und Aussichten, versprochen!
DTSTART:20131101T140000
DTEND:20131101T170000
LOCATION:U-Bahnhof Olympiazentrum, Ausgang BMW-Welt, an der Infotafel
ORGANIZER:DGB-Bildungswerk Bayern e.V. Region München
END:VEVENT
END:VCALENDAR