BEGIN:VCALENDAR
VERSION:2.0
PRODID:-//Stadtgeschichte München//DE
CALSCALE:GREGORIAN
BEGIN:VEVENT
UID:5384@stadtgeschichte-muenchen.de
SUMMARY:Altes neu verpackt
DESCRIPTION:Als „Dachauer Bildergalerie\" bezeichneten einst die erbosten& Münchner die Alte Pinakothek, schien sie ihnen doch viel zu&nbsp;weit außerhalb ihres geliebten Stadtkerns zu liegen. Jüngst&nbsp;ergänzt mit zahlreichen neuen Museen zwischen dem Neubau des Lenbachhauses und der Sammlung Brandhorst bietet&nbsp;das Münchner Museumsareal ein einzigartiges Stadtensemble voll von spannender Geschichte und Geschichten.
DTSTART:20130821T100000
DTEND:20130821T113000
LOCATION: jeweils Haupteingang Lenbachhaus
ORGANIZER:Münchner Bildungswerk e.V.
END:VEVENT
END:VCALENDAR