BEGIN:VCALENDAR
VERSION:2.0
PRODID:-//Stadtgeschichte München//DE
CALSCALE:GREGORIAN
BEGIN:VEVENT
UID:5385@stadtgeschichte-muenchen.de
SUMMARY:Auf den Spuren des Blauen Reiters in Schwabing
DESCRIPTION:Im Jahr 1896 kam der Maler Wassily Kandinsky nach&nbsp;München, das als Kunststadt internationalen Ruhm genoss.&nbsp;Von seiner Ausbildung über erste Ausstellungen bis zu den&nbsp;weitreichenden Künstlerkontakten und Freundschaften lässt&nbsp;sich sein Weg in Schwabing bei diesem Rundgang nach-&nbsp;zeichnen. Die kurzen Jahre vor dem 1. Weltkrieg mündeten&nbsp;in die Geburtsstunde der Moderne, die untrennbar mit dem&nbsp;Namen „Blauer Reiter\" verbunden ist.&nbsp; &nbsp; &nbsp; &nbsp; &nbsp; &nbsp; &nbsp;&nbsp;
DTSTART:20130918T170000
DTEND:20130918T183000
LOCATION:jeweils vor der Akademie der Bildenden Künste, Akademiestr. 2-4
ORGANIZER:Münchner Bildungswerk e.V.
END:VEVENT
END:VCALENDAR