BEGIN:VCALENDAR
VERSION:2.0
PRODID:-//Stadtgeschichte München//DE
CALSCALE:GREGORIAN
BEGIN:VEVENT
UID:5390@stadtgeschichte-muenchen.de
SUMMARY:Es grünt so grün
DESCRIPTION:Der Englische Garten in München ist weltberühmt. Aber&nbsp;wissen Sie auch, woher der Finanzgarten seinen Namen hat? Und wo der Kabinettsgarten zu finden ist? All dies und viele&nbsp;andere Gartengeheimnisse verrät Ihnen unservergnüglicher&nbsp;Spaziergang durch Münchens grüne Innenstadt.
DTSTART:20130921T140000
DTEND:20130921T153000
LOCATION:jeweils Hofgartentor am Odeonsplatz, unter dem Bogen
ORGANIZER:Münchner Bildungswerk e.V.
END:VEVENT
END:VCALENDAR