BEGIN:VCALENDAR
VERSION:2.0
PRODID:-//Stadtgeschichte München//DE
CALSCALE:GREGORIAN
BEGIN:VEVENT
UID:5392@stadtgeschichte-muenchen.de
SUMMARY:„Ei wie schmeckt der Coffee süße\"
DESCRIPTION:Es ist ein langer Weg vom einstigen Luxusgetränk in Porzellan bis zum Coffee to go im Plastikbecher. Unser kurzweiliger und aromatischer Rundgang führt Sie unter anderem zu&nbsp;Münchens ältestem Kaffeehaus, zur ehemals königlich-bayrischen Hofkonditorei Rottenhöfer und zur Geburtsstätte&nbsp;der berühmten Prinzregententorte. mit Besuch der&nbsp;Sammlung Cafe Luitpold 
DTSTART:20130927T140000
DTEND:20130927T153000
LOCATION:jeweils Fischbrunnen am Marienplatz
ORGANIZER:Münchner Bildungswerk e.V.
END:VEVENT
END:VCALENDAR