BEGIN:VCALENDAR
VERSION:2.0
PRODID:-//Stadtgeschichte München//DE
CALSCALE:GREGORIAN
BEGIN:VEVENT
UID:5394@stadtgeschichte-muenchen.de
SUMMARY:Schönes und Schauriges
DESCRIPTION:Der einstige Pestfriedhof vor den Toren der Stadt wurde im 19. Jahrhundert Begräbnisort zahlreicher berühmter Persönlichkeiten. An sie erinnern viele kunstvolle Grabmäler in einer&nbsp;romantisch anmutenden Parkanlage. Wir erzählen Ihnen&nbsp;Geschichte und Geschichten rund um die letzte Ruhestätte&nbsp;von Künstlern, Forschern und Originalen.
DTSTART:20130907T140000
DTEND:20130907T153000
LOCATION: jeweils Friedhofseingang am Stephansplatz
ORGANIZER:Münchner Bildungswerk e.V.
END:VEVENT
END:VCALENDAR