BEGIN:VCALENDAR
VERSION:2.0
PRODID:-//Stadtgeschichte München//DE
CALSCALE:GREGORIAN
BEGIN:VEVENT
UID:540@stadtgeschichte-muenchen.de
SUMMARY:Auer Mühlbach
DESCRIPTION: 
DTSTART:20110505T170000
DTEND:20110505T190000
LOCATION:Museumskino
ORGANIZER:Franz Schiermeier Verlag
END:VEVENT
END:VCALENDAR