BEGIN:VCALENDAR
VERSION:2.0
PRODID:-//Stadtgeschichte München//DE
CALSCALE:GREGORIAN
BEGIN:VEVENT
UID:5407@stadtgeschichte-muenchen.de
SUMMARY:Stadtmauer-Spaziergang
DESCRIPTION:Mit über 50 Türmen, großen und kleinen Stadttoren, doppeltem Mauerring und Wassergraben schützte Münchens Stadtmauer die&nbsp;Bürger einst vor unerwünschten Eindringlingen. Das Isartor, das&nbsp;Sendlinger Tor und das Karlstor kennt fast jeder. Aber wo ist das&nbsp;letzte der ursprünglich vier großen Münchner Stadttore geblieben&nbsp;und was verraten uns die alten Straßen über den Verlauf der mittelalterlichen Mauern? Spuren der ehemaligen Stadtbefestigung finden&nbsp;sich noch allenthalben - man muss sie nur entdecken!
DTSTART:20131020T140000
DTEND:20131020T153000
LOCATION:Isartor, Innenhof
ORGANIZER:MVHS München Mitte   
END:VEVENT
END:VCALENDAR