BEGIN:VCALENDAR
VERSION:2.0
PRODID:-//Stadtgeschichte München//DE
CALSCALE:GREGORIAN
BEGIN:VEVENT
UID:5408@stadtgeschichte-muenchen.de
SUMMARY:Castrum - Der Alte Hof
DESCRIPTION:Als deutscher Kaiser macht Ludwig der Bayer seine Burg zum ersten&nbsp;festen Regierungssitz eines Kaisers. Der Alte Hof war Sitz seines Hofrats und seiner von Reformtheologen und Staatstheoretikern geprägten Hofakademie. Als&nbsp;besondere Beispiele der mittelalterlicher Zimmermannskunst sind im Inneren vier historische Dachstühle erhalten, der&nbsp;älteste aus dem Jahr 1426. Beim Rundgang, bis hinauf in den spät-&nbsp;gotischen Fachwerk-Erker - dem Affenturm,- wird die Geschichte&nbsp;der Burg eindrucksvoll sichtbar.
DTSTART:20130927T150000
DTEND:20130927T160000
LOCATION:Infopoint Museen und Schlösser in Bayern,  Alter Hof 1
ORGANIZER:MVHS München Mitte   
END:VEVENT
END:VCALENDAR