BEGIN:VCALENDAR
VERSION:2.0
PRODID:-//Stadtgeschichte München//DE
CALSCALE:GREGORIAN
BEGIN:VEVENT
UID:5430@stadtgeschichte-muenchen.de
SUMMARY:Haidhausen - Eine Filmrevue durch das 20. Jahrhundert
DESCRIPTION:Hermann Wilhelm, Leiter des Haidhausen-Museums und Autor zahlreicher Bücher zur Münchner Stadt- und&nbsp;Stadtteilgeschichte führt in&nbsp;das jeweilige Thema ein.&nbsp;Nach den Filmen ist Gelegenheit zu Unterhaltung und Gesprächen.&nbsp;In Zusammenarbeit mit dem KiM-Kino im Einstein Regie: Klaus Maria Brandauer, 1989, 97 Minuten Am 8. November 1939 spricht Hitler im Haidhauser Bürgerbräukeller.&nbsp;Punkt 21.20 Uhr explodiert eine Bombe in der Säule hinter der&nbsp;Rednertribüne. Acht Personen werden getötet, über 60 verletzt.&nbsp;Hitler aber, dem das Attentat gilt, hat&nbsp;sieben Minuten vorher den&nbsp;Saal verlassen. Der Attentäter Georg Eiser wird kurze Zeit später beim&nbsp;Grenzübertritt zur Schweiz festgenommen .... &nbsp;
DTSTART:20131107T180000
DTEND:20131107T200000
LOCATION:KIM-Kino im Kulturzentrum Einstein • Einsteinstr. 42 (durch die Tor- einfahrt)
ORGANIZER:MVHS München Mitte   
END:VEVENT
END:VCALENDAR