BEGIN:VCALENDAR
VERSION:2.0
PRODID:-//Stadtgeschichte München//DE
CALSCALE:GREGORIAN
BEGIN:VEVENT
UID:5431@stadtgeschichte-muenchen.de
SUMMARY:Haidhausen - Glanz und Elend eines Viertels
DESCRIPTION:Regie: Angelika Colditz, 1987, 55 Minuten Der Amateurfilm zeigt ein Haidhausen, das längst verschwunden ist.&nbsp;Mit Interviews und Kommentaren zum damaligen Lebensgefühl und&nbsp;der Entwicklung Haidhausens zum In-Viertel, zu Sanierung, Umwandlungsspekulation und den entstehenden Groß- und Neubauten.&nbsp;Ein unterhaltsames Zeitdokument für Haidhausen-Kenner und solche, die es werden wollen. Zum Abschluss der Reihe: Die Orchesterprobe, 1933, 22 Minuten Einer der schönsten Filme von Karl Valentin und Liesl Karlstadt
DTSTART:20131121T180000
DTEND:20131121T200000
LOCATION:KIM-Kino im Kulturzentrum Einstein • Einsteinstr. 42 (durch die Tor- einfahrt)
ORGANIZER:MVHS München Mitte   
END:VEVENT
END:VCALENDAR