BEGIN:VCALENDAR
VERSION:2.0
PRODID:-//Stadtgeschichte München//DE
CALSCALE:GREGORIAN
BEGIN:VEVENT
UID:5436@stadtgeschichte-muenchen.de
SUMMARY:missio - das Internationale Katholische Missionswerk
DESCRIPTION:wurde bereits 1838 von König Ludwig I. von Bayern gegründet und 1922 von Papst Pius XI. zum Päpstlichen Missionswerk erhoben. Aktiv unterstützt es die Ortskirchen von Afrika über Asien bis nach Ozeanien und trägt dazu bei, Menschen ein würdiges Leben und eine nach- haltige Zukunft zu geben. Wir sind eingeladen mehr über die Arbeit von missio in ca. 35 Ländern zu erfahren und besuchen die Hauskapelle, welche von sechzehn malawischen Künstlern aus dem Holz des Heiligen Waldes geschnitzt wurde.
DTSTART:20131127T143000
DTEND:20131127T170000
LOCATION:missio • Pettenkoferstr. 26-28
ORGANIZER:MVHS München Mitte   
END:VEVENT
END:VCALENDAR