BEGIN:VCALENDAR
VERSION:2.0
PRODID:-//Stadtgeschichte München//DE
CALSCALE:GREGORIAN
BEGIN:VEVENT
UID:5437@stadtgeschichte-muenchen.de
SUMMARY:Mir gärtnerplatzt der Ktagen
DESCRIPTION:Kindercafes, Yuppies, Luxuswohnturm und Schickimicki-Imbiss-was haben diese Phänomene mit dem Gärtnerplatz- und dem Glockenbachviertel zu tun? Verfolgt man die Diskussion um den Stadtteil&nbsp;wird rasch deutlich, dass es sich bei diesen Stichworten nicht um&nbsp;Etikettierungen handelt, sondern Bezeichnungen in der Debatte um&nbsp;die Gentrifizierung des Viertels sind und sie zugleich auch kräftig&nbsp;anfeuern. Im Vortrag wird versucht Strukturen aufzuzeigen, Bedeutungen hervorzuheben und existierende Raumbilder dieses Viertels&nbsp;sichtbar und historisch begreifbar zu machen, um damit den Gentrifizierungsprozess charakterisieren zu können.
DTSTART:20131007T200000
DTEND:20131007T213000
LOCATION:Volkshochschule • Gasteig • Rosenheimer Str. 5 
ORGANIZER:MVHS München Mitte   
END:VEVENT
END:VCALENDAR