BEGIN:VCALENDAR
VERSION:2.0
PRODID:-//Stadtgeschichte München//DE
CALSCALE:GREGORIAN
BEGIN:VEVENT
UID:5438@stadtgeschichte-muenchen.de
SUMMARY:El Furkan - Islamisches Zentrum der Albaner in München
DESCRIPTION:Sie würden vorbeigehen und sie nicht bemerken - die El-Furkan-Moschee - so unscheinbar ist ihr Äußeres. Betreten Sie die Räume,&nbsp;öffnet sich eine andere Welt. Still, gediegen und ausgeschmückt mit&nbsp;unzähligen Mosaiken, deren Bedeutung uns der Imam nach dem&nbsp;Mittagsgebet erklären wird, dem wir beiwohnen dürfen. Das Zentrum&nbsp;möchte den hier lebenden albanischen Muslimen die Ausübung ihrer&nbsp;Religion ermöglichen und auch bei Alltagsproblemen behilflich sein. Ein Rundgang im Schlachthofviertel schließt sich dem Moscheebesuch an. Bitte beachten Sie: Die Moschee darf nur ohne Schuhe betreten&nbsp;werden. Männer und Frauen benötigen eine&nbsp;Kopfbedeckung.
DTSTART:20131017T130000
DTEND:20131017T150000
LOCATION:Islamisches Zentrum der Albaner, Thalkirchnerstr. 35
ORGANIZER:MVHS München Mitte   
END:VEVENT
END:VCALENDAR