BEGIN:VCALENDAR
VERSION:2.0
PRODID:-//Stadtgeschichte München//DE
CALSCALE:GREGORIAN
BEGIN:VEVENT
UID:5444@stadtgeschichte-muenchen.de
SUMMARY:Das Münchner Georgianum - ein staatliches Priesterseminar
DESCRIPTION:Das „Herzogliche Georgianum\" wurde 1494 von Herzog Georg dem Reichen von Bayern-Landshut gegründet und 1826 nach München verlegt. Es ist das Zweitälteste und einzige unter staatlicher Aufsicht stehende Priesterseminar der Welt. Bekannte Nachwuchstheologen waren u.a. der spätere Landpfarrer Sebastian Kneipp, der 1850 im Brunnen des Gartens seine Wasserkur entwickelte, und Joseph Ratzinger, der hier 1947 als Theologiestudent seine Laufbahn begann.
DTSTART:20131204T150000
DTEND:20131204T163000
LOCATION:Professor-Huber-Platz 1 (Eingangsbereich) 
ORGANIZER:MVHS München Mitte   
END:VEVENT
END:VCALENDAR