BEGIN:VCALENDAR
VERSION:2.0
PRODID:-//Stadtgeschichte München//DE
CALSCALE:GREGORIAN
BEGIN:VEVENT
UID:5446@stadtgeschichte-muenchen.de
SUMMARY:The Duke - eine „Schnapsidee
DESCRIPTION:Leidenschaft, Hingabe und Durchhaltevermögen waren die ersten Grundstoffe, welche die beiden Brenner Max &amp; Daniel zu ihrem Vor haben brauchten. Nach einem Jahr Entwicklungszeit war es soweit. Dreizehn ausgesuchte Kräuter aus biologischem Anbau kommen in die kupfernen Kessel und für den genuin bayerischen Einschlag sorgen Hopfenblüten und Malz. In einem Hinterhof im Herzen Münchens brodelt und dampft es unermüdlich und nun wird hier fleißig der Munich Dry Gin gebrannt.
DTSTART:20131015T190000
DTEND:20131015T210000
LOCATION:Barerstr. 53
ORGANIZER:MVHS München Mitte   
END:VEVENT
END:VCALENDAR