BEGIN:VCALENDAR
VERSION:2.0
PRODID:-//Stadtgeschichte München//DE
CALSCALE:GREGORIAN
BEGIN:VEVENT
UID:5450@stadtgeschichte-muenchen.de
SUMMARY:München an der Schwelle zum 20. Jahrhundert
DESCRIPTION:„Es ist wie ein Rausch, wie ein Wahnsinn, der uns überkommt...\"&nbsp;Mit solchen Elogen wurde das 20. Jahrhundert eingeläutet. Die&nbsp;künstlerische und literarische Avantgarde brach mit alten Traditionen&nbsp;und setzte neue Maßstäbe: in&nbsp;der Literatur, in der Architektur, der&nbsp;bildenden Kunst - und selbst im täglichen Leben. Die Zeitschriften&nbsp;„Simplicissimus\" und „Jugend\" wurden zu Foren für den Aufbruch&nbsp;in die Moderne. Dem Glanz und&nbsp;Lebensgefühl dieser Zeit wollen wir&nbsp;auf diesem Rundgang nachspüren.
DTSTART:20131012T140000
DTEND:20131012T160000
LOCATION:Münchner Freiheit/Ecke Haimhauser Str. 
ORGANIZER:MVHS München Mitte   
END:VEVENT
END:VCALENDAR