BEGIN:VCALENDAR
VERSION:2.0
PRODID:-//Stadtgeschichte München//DE
CALSCALE:GREGORIAN
BEGIN:VEVENT
UID:5454@stadtgeschichte-muenchen.de
SUMMARY:NS-Spurensuche im Münchner Norden
DESCRIPTION:In sieben Stationen wird auf dieser Radtour wider das Vergessen über&nbsp;die Geschehnisse und Verbrechen in der NS-Zeit und ihre Folgen aufgeklärt. Station: DP-Lager Schleißheim - Fliegertechnische Schule Schleihheim: Ausbildung aller Kampfpiloten, Legion Condor Station: Flakstellung Am Hasenberg Station: S-Bahnhof- Futtermittelfabrik Dr. Zentz und die Verbindung zum KZ Dachau - Enteignung jüdischer Familien Station: KZ-Friedhof Feldmoching - Bau des Kalterbach - Feldmochinger Hof und der Einsatz von KZ-Häftlingen in der Landwirtschaft Station: KZ-Häftlinge und Kriegsgefangene im Arbeitseinsatz im&nbsp;Moos Station: Lager Ludwigsfeld (KZ-Aussenlager Allach) - Organisation&nbsp;Todt - Frauenlager - Zigeunerlager Station: KZ-Friedhof Ludwigsfeld Die Veranstaltung findet bei jeder Witterung statt. Bitte wetterfeste&nbsp;Kleidung mitnehmen. In Kooperation mit „Gegen Vergessen - Für Demokratie\", Regionale&nbsp;Arbeitsgruppe München.
DTSTART:20131013T130000
DTEND:20131013T160000
LOCATION:U-Bahnhof Hasenbergl, vor dem Aufgang zum Kulturzentrum 2411 • Blodigstr. 4 
ORGANIZER:MVHS München Mitte   
END:VEVENT
END:VCALENDAR