BEGIN:VCALENDAR
VERSION:2.0
PRODID:-//Stadtgeschichte München//DE
CALSCALE:GREGORIAN
BEGIN:VEVENT
UID:5455@stadtgeschichte-muenchen.de
SUMMARY:Mit Politik auf Tuchfühlung: Der Bayerische Landtag
DESCRIPTION:In dieser Reihe für Bürgerinnen und Bürger des Münchner Nordens&nbsp;werden Orte aufgesucht, an denen politische Entscheidungen von&nbsp;Tragweite fallen. Ein Abgeordneter des Münchner Nordens führt auf&nbsp;einem Rundgang durch das Maximilianeum. Es wird diskutiert, welche&nbsp;Aufgaben der Landtag hat und wie er arbeitet, wie der Alltag eines&nbsp;Abgeordneten aussieht und wie er die Interessen der Bürger/innen&nbsp;vertritt, welche Probleme des Münchner Nordens im Landtag eine&nbsp;Rolle spielen.
DTSTART:20140210T160000
DTEND:20140210T180000
LOCATION:Maximilianeum, Westpforte (Isarseite)
ORGANIZER:MVHS München Mitte   
END:VEVENT
END:VCALENDAR