BEGIN:VCALENDAR
VERSION:2.0
PRODID:-//Stadtgeschichte München//DE
CALSCALE:GREGORIAN
BEGIN:VEVENT
UID:5456@stadtgeschichte-muenchen.de
SUMMARY:Verkehrskonzept für den Münchner Norden
DESCRIPTION:Das Verkehrsnetz im Münchner Norden ist bereits heute teilweise überlastet. Geplante Siedlungsentwicklungen wie z. B. in der Bayern-Kaserne und Kronprinz-Rupprecht-Kaseme werden das Verkehrsaufkommen weiter erhöhen. Am 4.12.2012 wurden bei einer Bürgerversammlung Untersuchungsergebnisse und Lösungsansätze zur&nbsp;Verbesserung der Verkehrssituation ausführlich erläutert, um die Öffentlichkeit zu beteiligen. Anschließend beriet der Münchner Stadtrat&nbsp;über die Weiterentwicklung des Verkehrskonzepts Münchner Norden. Ein Mitarbeiter des Referats für Stadtplanung und Bauordnung wird&nbsp;die wesentlichen Ziele des Verkehrskonzepts vorstellen: Verbesserung&nbsp;des Öffentlichen Nahverkehrs, Weiterentwicklung des Mobilitäts- und&nbsp;des Parkraummanagements, Verbesserung der Nahmobilität, Verlagerung des Güterverkehrs auf die Schiene und eine am öffentlichen Nahverkehr orientierte Siedlungspolitik. Georg Dunkel, Referat für Stadtplanung und Bauordnung/Markus Auerbach, Vorsitzender BA 24/Antonie Thomsen, Vorsitzende BA 11
DTSTART:20131212T190000
DTEND:20131212T210000
LOCATION:Volkshochschule Blodigstr. 4, 2. Stock
ORGANIZER:MVHS München Nord
END:VEVENT
END:VCALENDAR