BEGIN:VCALENDAR
VERSION:2.0
PRODID:-//Stadtgeschichte München//DE
CALSCALE:GREGORIAN
BEGIN:VEVENT
UID:5459@stadtgeschichte-muenchen.de
SUMMARY:Das neue Stadtviertel auf dem Gelände der ehemaligen Funkkaserne
DESCRIPTION:Nach dem Abschluss einer langen und aufwändigen Planungsphase begann Anfang 2013 die Bebauung der ehemaligen Funkkaserne.&nbsp;Geplant sind ca. 1600 Wohnungen um eine große zentrale Parkfläche,&nbsp;dazu eine Grundschule, vier Kindertagesstätten, ein Haus für Kinder,&nbsp;Jugend und Familie sowie ein großer Bolzplatz. Nahe der Trambahnhaltestelle werden Läden und Gewerbeflächen realisiert, die zur Entstehung eines eigenständigen Wohnquartiers beitragen. In Kooperation mit dem Referat für Stadtplanung und Bauordnung.
DTSTART:20131024T151500
DTEND:20131024T170000
LOCATION:Zufahrt Funkkasernengelände, Domagkstr. 33
ORGANIZER:MVHS München Nord
END:VEVENT
END:VCALENDAR