BEGIN:VCALENDAR
VERSION:2.0
PRODID:-//Stadtgeschichte München//DE
CALSCALE:GREGORIAN
BEGIN:VEVENT
UID:5461@stadtgeschichte-muenchen.de
SUMMARY:Erneuerung eines Stadtviertels - der Harthof
DESCRIPTION:Am Harthof hat die GWG kurz vor dem Zweiten Weltkrieg und dann ab 1950 zwei- bis fünfgeschossige Zeilenbauten im sozialen Wohnungsbau errichtet. 1978 lebten hier schon fast 11000 Menschen in&nbsp;3500 Wohnungen. Da die Einfach-Wohnungen nicht mehr den heutigen Ansprüchen entsprachen, wird seit 2004 der gesamte Bestand&nbsp;Schritt für Schritt abgerissen und neu gebaut. In den modernen,&nbsp;energieeffizienten Gebäuden - bis hin zum Passivhaus - entstehen&nbsp;auch neue Wohnformen für alte oder demente Menschen oder eine&nbsp;Wohngruppe der Pfennigparade. Zum hohen Wohnwert tragen&nbsp;grüne Höfe und Mietergärten bei. Die Siedlung am Harthof wird so&nbsp;erneuert, ohne ihr Gesicht zu verlieren.
DTSTART:20131017T163000
DTEND:20131017T180000
LOCATION: vor der Hausverwaltung, Lieberweg 46 
ORGANIZER:MVHS München Nord
END:VEVENT
END:VCALENDAR