BEGIN:VCALENDAR
VERSION:2.0
PRODID:-//Stadtgeschichte München//DE
CALSCALE:GREGORIAN
BEGIN:VEVENT
UID:5462@stadtgeschichte-muenchen.de
SUMMARY:BMW-Werk
DESCRIPTION:Der gesamte Produktionsdurchlauf von der Stahlrolle bis zum fertigen Fahrzeug wird bei dieser Werksbesichtigung gezeigt. Stationen sind Presswerk, Karosseriebau, Lackiererei und Motorenbau. Auch die besonderen Arbeitszeiten und die Probleme, die ein Großbetrieb inmitten von Wohnsiedlungen mit sich bringt, werden angesprochen.
DTSTART:20131126T161500
DTEND:20131126T181500
LOCATION:BMW Welt, Infocounfer Nord (Ecke Georg-Brauchle-Ring/Lerchenauer Str.)
ORGANIZER:MVHS München Nord
END:VEVENT
END:VCALENDAR