BEGIN:VCALENDAR
VERSION:2.0
PRODID:-//Stadtgeschichte München//DE
CALSCALE:GREGORIAN
BEGIN:VEVENT
UID:5498@stadtgeschichte-muenchen.de
SUMMARY:Besichtigung der Gedenkstätte in der JVA Stadelheim
DESCRIPTION:Nach der Besichtigung der Gedenkstätte, die in der JVA Stadelheim für die Mitglieder der „Weißen Rose\" eingerichtet wurde, wird uns&nbsp;ein Mitarbeiter der Justizvollzugsanstalt anhand von zwei Modellen&nbsp;über das Leben im Gefängnis früher und heute informieren. Danach&nbsp;werden wir uns im Friedhof am Perlacher Forst bei einem Besuch der&nbsp;Gräber der Geschwister Scholl und anderer Opfer des NS-Regimes an&nbsp;den vielfältigen Widerstand in Deutschland, insbesondere in München,&nbsp;erinnern. Viele Menschen mussten ihr Auflehnen gegen den Nationalsozialismus mit dem Tod bezahlen.
DTSTART:20131121T103000
DTEND:20131121T123000
LOCATION:Friedhof am Perlacher Forst, Stadelheimer Str. 24 
ORGANIZER:
END:VEVENT
END:VCALENDAR