BEGIN:VCALENDAR
VERSION:2.0
PRODID:-//Stadtgeschichte München//DE
CALSCALE:GREGORIAN
BEGIN:VEVENT
UID:5502@stadtgeschichte-muenchen.de
SUMMARY:Besuch im Münchner Rathaus
DESCRIPTION:Das neugotische Münchner Rathaus ist ein Touristenmagnet. Aber wer kennt sich als Einheimischer wirklich im Inneren aus? Es beginnt&nbsp;mit einem kurzen Rundgang durch die verwinkelten Gänge mit Einblick in die Sitzungssäle. Wenn möglich (abhängig vom Sitzungskalender) ist auch ein kurzer Besuch einer Sitzung vorgesehen. Lassen&nbsp;Sie sich dann erklären, wie der 80-köpfige Stadtrat Politik macht, die&nbsp;Sacharbeit in den einzelnen Ausschüssen aussieht, wie Entscheidungsprozesse verlaufen und Interessen der Bürger/innen in Stadtrats-&nbsp;beschlüssen Eingang finden. Im Fraktionsraum von Bündnis 90/Die&nbsp;Grünen stellt sich Herr Danner Ihren Fragen zur aktuellen Stadtpolitik&nbsp;und Stadtentwicklung im Münchner Osten. Die Veranstaltung endet&nbsp;mit einer Turmauffahrt (Gebühr vor Ort zu zahlen). Herbert Danner (Bündnis 90/Die Grünen/Rosa Liste)
DTSTART:20131108T100000
DTEND:20131108T113000
LOCATION:Rathaus, an der Pforte (rechts vom Ratskeller), Marienplatz 8
ORGANIZER:
END:VEVENT
END:VCALENDAR