BEGIN:VCALENDAR
VERSION:2.0
PRODID:-//Stadtgeschichte München//DE
CALSCALE:GREGORIAN
BEGIN:VEVENT
UID:5504@stadtgeschichte-muenchen.de
SUMMARY:Stadtteilsanierung mit der Sozialen Stadt Giesing
DESCRIPTION:&lt;p&gt;Seit Ende 2005 wird in Teilen Obergiesings das von Bund, Land und Stadt finanzierte Städtebauförderungs-Programm „Soziale Stadt&quot;&amp;nbsp;umgesetzt. Zeit für eine Zwischenbilanz, die das Quartiersmanagement mit interessierten Bürgerinnen und Bürgern im Rahmen eines&amp;nbsp;Stadtteilspaziergangs ziehen will. Wir laden Sie zu einer Runde durch&amp;nbsp;das&amp;nbsp;Sanierungsgebiet ein, bei der wir mit Ihnen neben den Großprojekten wie der Tegemseer Landstraße (in Planung), dem Agfa-Gelände (im Bau) und dem Park an der Weißenseestraße (größtenteils&amp;nbsp;abgeschlossen) auch weniger sichtbare Orte und Errungenschaften&amp;nbsp;der Sozialen Stadt sowie eine Auswahl von kleineren Projekten&amp;nbsp;erlaufen wollen. Sie werden mehr erfahren über städtebauliche&amp;nbsp;Veränderungen, Grün- und Freiflächenversorgung, die Bestrebungen&amp;nbsp;des örtlichen Gewerbes, über bürgerschaftliche Netzwerke, soziale&amp;nbsp;Anlaufstellen, Bildungs- und Gesundheitsaktivitäten im Quartier.&lt;/p&gt; &lt;p&gt;Gerne können Sie sich vorab im Stadtteilladen an der Tegernseer&amp;nbsp;Landstraße 113 oder über www.stadtteilladen-giesing.de informieren.&lt;/p&gt; 
DTSTART:20131018T160000
DTEND:20131018T180000
LOCATION:Volkshochschule, draußen vor dem Eingang, Severinstr. 6
ORGANIZER:
END:VEVENT
END:VCALENDAR